BEGIN:VCALENDAR
VERSION:2.0
PRODID:-//The International Association of Burn Camps - ECPv6.10.2//NONSGML v1.0//EN
CALSCALE:GREGORIAN
METHOD:PUBLISH
X-WR-CALNAME:The International Association of Burn Camps
X-ORIGINAL-URL:https://iaburncamps.org
X-WR-CALDESC:Events for The International Association of Burn Camps
REFRESH-INTERVAL;VALUE=DURATION:PT1H
X-Robots-Tag:noindex
X-PUBLISHED-TTL:PT1H
BEGIN:VTIMEZONE
TZID:America/Chicago
BEGIN:DAYLIGHT
TZOFFSETFROM:-0600
TZOFFSETTO:-0500
TZNAME:CDT
DTSTART:20260308T080000
END:DAYLIGHT
BEGIN:STANDARD
TZOFFSETFROM:-0500
TZOFFSETTO:-0600
TZNAME:CST
DTSTART:20261101T070000
END:STANDARD
END:VTIMEZONE
BEGIN:VEVENT
DTSTART;TZID=America/Chicago:20260514T120000
DTEND;TZID=America/Chicago:20260514T130000
DTSTAMP:20260422T070107
CREATED:20251211T174757Z
LAST-MODIFIED:20251211T165422Z
UID:1479-1778760000-1778763600@iaburncamps.org
SUMMARY:IABC Quarterly Meeting - Volunteer Training\, Returning Staff v New Staff
DESCRIPTION:…  \n\n\nThis content is for IABC Member Camp\, IABC Affiliate Organization\, and IABC Member Camp Volunteer members only.Join Now \n\nAlready a member? Log in here
URL:https://iaburncamps.org/event/iabc-quarterly-meeting-volunteer-training-returning-staff-v-new-staff/
END:VEVENT
BEGIN:VEVENT
DTSTART;TZID=America/Chicago:20260910T120000
DTEND;TZID=America/Chicago:20260910T130000
DTSTAMP:20260422T070107
CREATED:20251211T174934Z
LAST-MODIFIED:20251211T165554Z
UID:1482-1789041600-1789045200@iaburncamps.org
SUMMARY:IABC Quarterly Meeting - Camp Debrief
DESCRIPTION:…  \n\n\nThis content is for IABC Member Camp\, IABC Affiliate Organization\, and IABC Member Camp Volunteer members only.Join Now \n\nAlready a member? Log in here
URL:https://iaburncamps.org/event/iabc-quarterly-meeting-camp-debrief/
END:VEVENT
BEGIN:VEVENT
DTSTART;TZID=America/Chicago:20261210T120000
DTEND;TZID=America/Chicago:20261210T130000
DTSTAMP:20260422T070107
CREATED:20251211T165311Z
LAST-MODIFIED:20251211T165311Z
UID:1484-1796904000-1796907600@iaburncamps.org
SUMMARY:IABC Quarterly Meeting - Difficult Conversations Follow-up
DESCRIPTION:…  \n\n\nThis content is for IABC Member Camp\, IABC Affiliate Organization\, and IABC Member Camp Volunteer members only.Join Now \n\nAlready a member? Log in here
URL:https://iaburncamps.org/event/iabc-quarterly-meeting-difficult-conversations-follow-up/
END:VEVENT
END:VCALENDAR